BEGIN:VCALENDAR
VERSION:2.0
PRODID:-//Jorge Picó - ECPv6.13.2.1//NONSGML v1.0//EN
CALSCALE:GREGORIAN
METHOD:PUBLISH
X-ORIGINAL-URL:https://jorgepico.com
X-WR-CALDESC:Eventos para Jorge Picó
REFRESH-INTERVAL;VALUE=DURATION:PT1H
X-Robots-Tag:noindex
X-PUBLISHED-TTL:PT1H
BEGIN:VTIMEZONE
TZID:Europe/Madrid
BEGIN:DAYLIGHT
TZOFFSETFROM:+0100
TZOFFSETTO:+0200
TZNAME:CEST
DTSTART:20260329T010000
END:DAYLIGHT
BEGIN:STANDARD
TZOFFSETFROM:+0200
TZOFFSETTO:+0100
TZNAME:CET
DTSTART:20261025T010000
END:STANDARD
END:VTIMEZONE
BEGIN:VEVENT
DTSTART;TZID=Europe/Madrid:20260204T100000
DTEND;TZID=Europe/Madrid:20260205T103000
DTSTAMP:20260426T000850
CREATED:20260201T172210Z
LAST-MODIFIED:20260201T172210Z
UID:5380-1770199200-1770287400@jorgepico.com
SUMMARY:Je ne veux pas dessiner un mouton! en Dijon
DESCRIPTION:  \nFoto Erik Maglaive\nJE NE VEUX PAS DESSINER UN MOUTON\nAu long de sa carrière\, Damien Bouvet a changé innumérables fois de peau sur scène. Funambuliste de la métamorphose\, en observant ses spectacles\, on dirait que la peau a été son véritable costume.\nEn se cherchant une silhouette\, une identité de clown dessinée par l’enfant qui vit en lui\, il a forcé sa peau à s’élargir\, à se transformer\, plier\, se tordre\, devenir âpre\, lisse\, poilue\, poudrée de blanc… pour nous délivrer ses spectacles.\nDans sa nouvelle proposition\, Je ne veux pas dessiner un mouton\, il épure les formes\, on ne trouvera pas sa panoplie d’objets et dans une scène presque vide\, il prend des morceaux de papier comme s’ils étaient des peaux pour les faire exister.\nCar il sait bien que sans peau la personne n’existe pas.\nAccompagnée d’un louper\, il produit aussi des brutons (bruit plus notes)\, des atmosphères\, des chansons qui accompagnent cette métamorphose du peaupapier et l’espectateur découvre des formes\, suit des microsituations\, l’oreille voyage\, le regard rêve.\nS’il te plaît… dessine-moi un mouton !\nEt Damien s’y met à dessiner un mouton\, mais les choses ne sont pas si faciles chez lui\, et le petit prince\, il est\, par fortune\, jamais satisfait.\nC’est de l’humain qu’il dessine\, car on sait tous très bien\, le petit prince aussi\, qu’il n’y a rien de plus profond que la peau.\nJorge Picó\, Neuvy deux clochers\, 19 septembre 2024. \nNO QUIERO DIBUJAR UN CORDERO \nA lo largo de su carrera\, Damien Bouvet ha mudado innumerables veces de piel en el escenario. Funambulista de la metamorfosis\, cuando uno asiste a sus espectáculos\, diría que la piel es su verdadero vestuario. \nEmpeñado en la tarea de buscarse una silueta\, una identidad de clown dibujada por el niño que habita en él\, ha terminado por obligar a su piel a que se agrande\, se transforme\, se pliegue\, se retuerza\, a que se vuelva áspera\, lisa\, peluda\, hasta de un blanco harinado… lo hemos visto en sus espectáculos. \nEn su nueva propuesta\, Je ne veux pas dessiner un mouton (No quiero dibujar un cordero) Damien purifica las formas: ya no encontraremos el rastro de objetos que suele poblar sus escena sino que en un escenario casi vacío trabaja con pedazos de papel como si fueran retazos de piel que tiene que conseguir que vivan en escena. \nPues él sabe muy bien que sin la piel las personas no existimos. \n  \nAcompañado de un looper\, Damien crea ruinodas (ruido y notas musicales)\, atmósferas\, canciones que acompañan esta metamorfosis de la pielpapel y el espectador\, invitado al taller del artista dibujante\, descubre formas\, microsituaciones teatrales… la oreja viaja y el ojo sueña en esta invitación \nPor favor… dibújame un cordero… Le piden al Principito en la obra de Saint-Exupéry \nY Damien se afana en la tarea. Pero las cosas no son nunca tan sencillas en sus creaciones\, y él\, al igual que el Principito\, no está nunca\, afortunadamente\, satisfecho. \nSon trazos de humanidad los que intenta dibujar\, pues todos sabemos\, y el Principito también\, que no hay nada más profundo que la piel. \nJorge Picó
URL:https://jorgepico.com/evento/je-ne-veux-pas-dessiner-un-mouton-en-dijon/
END:VEVENT
BEGIN:VEVENT
DTSTART;TZID=Europe/Madrid:20260221T190000
DTEND;TZID=Europe/Madrid:20260222T210000
DTSTAMP:20260426T000850
CREATED:20260221T160644Z
LAST-MODIFIED:20260221T160644Z
UID:5405-1771700400-1771794000@jorgepico.com
SUMMARY:Los Locos de Valencia de Lope de Vega en Castellón
DESCRIPTION:NOTA DEL DIRECTOR:\nLa trama de Los locos de Valencia empieza con una hermosa inversión social: solamente entre los desfavorecidos\, los parias\, aquellos a los que el Padre Jofré libró de ser apedreados en las calles\, a quienes protegió y acarició antes de fundar su hospital valenciano\, donde ocurre nuestra obra. Solamente entre ellos se está a salvo.\nY dentro de ese hospital\, los personajes no paran de enamorarse porque para Lope enamorarse es un comienzo nuevo. Esta es la propuesta de Lope. Lucidez\, paradoja\, locura\, enamoramiento y juego son una buena base para construir nuevos nacimientos\, otros mundos posibles\, más libres de los pesos que nos abruman\, de las coacciones diarias del vivir. \nJorge Picó
URL:https://jorgepico.com/evento/los-locos-de-valencia-de-lope-de-vega-en-castellon/
END:VEVENT
BEGIN:VEVENT
DTSTART;TZID=Europe/Madrid:20260221T200000
DTEND;TZID=Europe/Madrid:20260221T213000
DTSTAMP:20260426T000850
CREATED:20260221T160325Z
LAST-MODIFIED:20260221T160325Z
UID:5403-1771704000-1771709400@jorgepico.com
SUMMARY:Non Solum en el Bretón de Logroño
DESCRIPTION:Con una solvencia teatral más que contrastada\, esta pieza escrita por Sergi López y Jorge Picó se ha convertido en un referente escénico\, tanto por su profundidad como por su originalidad. \nNON SOLUM celebra 20 años de trayectoria consolidada\, avalada por crítica y público
URL:https://jorgepico.com/evento/non-solum-en-el-breton-de-logrono/
END:VEVENT
END:VCALENDAR