BEGIN:VCALENDAR
VERSION:2.0
PRODID:-//Jorge Picó - ECPv6.13.2.1//NONSGML v1.0//EN
CALSCALE:GREGORIAN
METHOD:PUBLISH
X-WR-CALNAME:Jorge Picó
X-ORIGINAL-URL:https://jorgepico.com
X-WR-CALDESC:Eventos para Jorge Picó
REFRESH-INTERVAL;VALUE=DURATION:PT1H
X-Robots-Tag:noindex
X-PUBLISHED-TTL:PT1H
BEGIN:VTIMEZONE
TZID:Europe/Madrid
BEGIN:DAYLIGHT
TZOFFSETFROM:+0100
TZOFFSETTO:+0200
TZNAME:CEST
DTSTART:20250330T010000
END:DAYLIGHT
BEGIN:STANDARD
TZOFFSETFROM:+0200
TZOFFSETTO:+0100
TZNAME:CET
DTSTART:20251026T010000
END:STANDARD
END:VTIMEZONE
BEGIN:VEVENT
DTSTART;TZID=Europe/Madrid:20251101T173000
DTEND;TZID=Europe/Madrid:20251101T184500
DTSTAMP:20260426T064115
CREATED:20251025T145325Z
LAST-MODIFIED:20251025T145325Z
UID:5299-1762018200-1762022700@jorgepico.com
SUMMARY:Non Solum en Temporada Alta (Salt)
DESCRIPTION:Vuelve el icónico monólogo en el que Sergi López deconstruye la identidad con humor existencial y una gran capacidad de transformación
URL:https://jorgepico.com/evento/non-solum-en-temporada-alta-salt-2/
END:VEVENT
BEGIN:VEVENT
DTSTART;TZID=Europe/Madrid:20251101T200000
DTEND;TZID=Europe/Madrid:20251101T214500
DTSTAMP:20260426T064115
CREATED:20251025T151706Z
LAST-MODIFIED:20251025T151706Z
UID:5301-1762027200-1762033500@jorgepico.com
SUMMARY:Non Solum Temporada Alta (Salt)
DESCRIPTION:Vuelve el icónico monólogo en el que Sergi López deconstruye la identidad con humor existencial y una gran capacidad de transformación. \n 
URL:https://jorgepico.com/evento/non-solum-temporada-alta-salt/
END:VEVENT
END:VCALENDAR