BEGIN:VCALENDAR
VERSION:2.0
PRODID:-//Jorge Picó - ECPv6.13.2.1//NONSGML v1.0//EN
CALSCALE:GREGORIAN
METHOD:PUBLISH
X-WR-CALNAME:Jorge Picó
X-ORIGINAL-URL:https://jorgepico.com
X-WR-CALDESC:Eventos para Jorge Picó
REFRESH-INTERVAL;VALUE=DURATION:PT1H
X-Robots-Tag:noindex
X-PUBLISHED-TTL:PT1H
BEGIN:VTIMEZONE
TZID:Europe/Madrid
BEGIN:DAYLIGHT
TZOFFSETFROM:+0100
TZOFFSETTO:+0200
TZNAME:CEST
DTSTART:20230326T010000
END:DAYLIGHT
BEGIN:STANDARD
TZOFFSETFROM:+0200
TZOFFSETTO:+0100
TZNAME:CET
DTSTART:20231029T010000
END:STANDARD
END:VTIMEZONE
BEGIN:VEVENT
DTSTART;VALUE=DATE:20230731
DTEND;VALUE=DATE:20230802
DTSTAMP:20260420T000922
CREATED:20230724T144455Z
LAST-MODIFIED:20230724T145326Z
UID:4652-1690772400-1690858799@jorgepico.com
SUMMARY:Publicación en Noticias Obreras
DESCRIPTION:La mesa es mi aportación de este año a la revista Noticias Obreras. \nEl lema de este año es Tejiendo vínculos de fraternidad \nEs un texto que escribí justo cuando la izquierda estaba en negociaciones para formar una plataforma conjunta de los partidos de izquierda (Sumar) \nLa revista es una invitación a caminar por sus páginas para apreciar sus contenido y escuchar los ecos que resuenan en ti. \n 
URL:https://jorgepico.com/evento/publicacion-en-noticias-obreras/
END:VEVENT
END:VCALENDAR